BEGIN:VCALENDAR
VERSION:2.0
PRODID:icalendar-ruby
CALSCALE:GREGORIAN
METHOD:PUBLISH
BEGIN:VEVENT
DTSTAMP:20260419T121515Z
UID:164-83727@riverwoodcf.org
DTSTART;VALUE=DATE:20260803
DTEND;VALUE=DATE:20260807
CLASS:PUBLIC
CREATED:20260416T133239
DESCRIPTION:
LAST-MODIFIED:20260416T133239
LOCATION:Riverwood Church
SUMMARY:KSA - Save the Date
URL;VALUE=URI:https://www.riverwoodcf.org/events/ksa-save-the-date/2026-08-
 03
ATTACH;FILENAME=KSA Save the Date!.jpg;FMTTYPE=image/jpeg:https://dq5pwpg1q
 8ru0.cloudfront.net/2026/04/16/18/30/51/419ccbd7-5f79-4be1-aebd-cc8890dc12
 f8/KSA%20Save%20the%20Date!.jpg
END:VEVENT
END:VCALENDAR
